BEGIN:VCALENDAR
VERSION:2.0
PRODID:-//Sacramento Area Mustang Club - ECPv6.15.12.1//NONSGML v1.0//EN
CALSCALE:GREGORIAN
METHOD:PUBLISH
X-WR-CALNAME:Sacramento Area Mustang Club
X-ORIGINAL-URL:https://sacramentomustangclub.com
X-WR-CALDESC:Events for Sacramento Area Mustang Club
REFRESH-INTERVAL;VALUE=DURATION:PT1H
X-Robots-Tag:noindex
X-PUBLISHED-TTL:PT1H
BEGIN:VTIMEZONE
TZID:America/Los_Angeles
BEGIN:DAYLIGHT
TZOFFSETFROM:-0800
TZOFFSETTO:-0700
TZNAME:PDT
DTSTART:20220313T100000
END:DAYLIGHT
BEGIN:STANDARD
TZOFFSETFROM:-0700
TZOFFSETTO:-0800
TZNAME:PST
DTSTART:20221106T090000
END:STANDARD
BEGIN:DAYLIGHT
TZOFFSETFROM:-0800
TZOFFSETTO:-0700
TZNAME:PDT
DTSTART:20230312T100000
END:DAYLIGHT
BEGIN:STANDARD
TZOFFSETFROM:-0700
TZOFFSETTO:-0800
TZNAME:PST
DTSTART:20231105T090000
END:STANDARD
BEGIN:DAYLIGHT
TZOFFSETFROM:-0800
TZOFFSETTO:-0700
TZNAME:PDT
DTSTART:20240310T100000
END:DAYLIGHT
BEGIN:STANDARD
TZOFFSETFROM:-0700
TZOFFSETTO:-0800
TZNAME:PST
DTSTART:20241103T090000
END:STANDARD
BEGIN:DAYLIGHT
TZOFFSETFROM:-0800
TZOFFSETTO:-0700
TZNAME:PDT
DTSTART:20250309T100000
END:DAYLIGHT
BEGIN:STANDARD
TZOFFSETFROM:-0700
TZOFFSETTO:-0800
TZNAME:PST
DTSTART:20251102T090000
END:STANDARD
BEGIN:DAYLIGHT
TZOFFSETFROM:-0800
TZOFFSETTO:-0700
TZNAME:PDT
DTSTART:20260308T100000
END:DAYLIGHT
BEGIN:STANDARD
TZOFFSETFROM:-0700
TZOFFSETTO:-0800
TZNAME:PST
DTSTART:20261101T090000
END:STANDARD
END:VTIMEZONE
BEGIN:VEVENT
DTSTART;TZID=America/Los_Angeles:20250426T053000
DTEND;TZID=America/Los_Angeles:20250426T153000
DTSTAMP:20260419T122511
CREATED:20240222T212725Z
LAST-MODIFIED:20250418T223219Z
UID:1957-1745645400-1745681400@sacramentomustangclub.com
SUMMARY:Casa Roble Car Show
DESCRIPTION:Event Title: \nCasa Roble Car Show Caravan meetup\n\n\nEvent Excerpt: \n\nDate: April 26 2025 \nMeet up time: TBD \nMeet up location: Leatherby’s 7910 Antelope Road Citrus Heights\, CA 95610 \nEvent Times: 7:00am—3:00pm \nCost: $20 \nLead: Norm Axtell 916-289-5670
URL:https://sacramentomustangclub.com/events/casa-roble-car-show/
CATEGORIES:Car Shows,Car Shows,Club Sponsored Events,Non Club Sactioned
END:VEVENT
BEGIN:VEVENT
DTSTART;TZID=America/Los_Angeles:20250416T190000
DTEND;TZID=America/Los_Angeles:20250416T203000
DTSTAMP:20260419T122511
CREATED:20250416T223217Z
LAST-MODIFIED:20250416T223217Z
UID:2534-1744830000-1744835400@sacramentomustangclub.com
SUMMARY:Membershp Meeting Location Change to Mountain Mikes Pizza 4141 Manzanita Ave. Carmichael\, ca
DESCRIPTION:Mark and Monica’s will be closed tonight because of computer issues.\n\nWe will be meeting at Mountain Mike’s Pizza\, 4141 Manzanita\, Carmichael. You will have to order food a head of time.
URL:https://sacramentomustangclub.com/events/membershp-meeting-location-change-to-mountain-mikes-pizza-4141-manzanita-ave-carmichael-ca/
END:VEVENT
BEGIN:VEVENT
DTSTART;TZID=America/Los_Angeles:20250223T071500
DTEND;TZID=America/Los_Angeles:20250223T160000
DTSTAMP:20260419T122511
CREATED:20241231T180616Z
LAST-MODIFIED:20241231T180616Z
UID:2429-1740294900-1740326400@sacramentomustangclub.com
SUMMARY:CAPAY Almond Festival
DESCRIPTION:Please join the Sacramento Area Mustang Club for the 2025 almond festival / breakfast at the Esparto high school with the 4H kids cooking omelets\, Taber Ranch Winery stop\, Canyon road trip\, and ending at Granzella’s restaurant for lunch in the big town of Williams. \nDate: Saturday\, February 23\, 2025 \nMeet up time: 7:15am \nLeave time: 7:30am \nMeet up location: IKEA west Sac parking lot \nCost: I think Breakfast was $10 or $12 last year \nLead: Mick Dadisman (916) 842-9643 \n 
URL:https://sacramentomustangclub.com/events/capay-almond-festival/
ATTACH;FMTTYPE=image/jpeg:https://sacramentomustangclub.com/wp-content/uploads/2024/12/CAPay.jpg
END:VEVENT
BEGIN:VEVENT
DTSTART;TZID=America/Los_Angeles:20250118T083000
DTEND;TZID=America/Los_Angeles:20250118T120000
DTSTAMP:20260419T122511
CREATED:20241231T180306Z
LAST-MODIFIED:20241231T180753Z
UID:2426-1737189000-1737201600@sacramentomustangclub.com
SUMMARY:Thunder into Breakfast
DESCRIPTION:Thunder Valley Breakfast Meet-up\nJoin us for our annual breakfast meet up at Thunder Valley Casino. \nDate: Saturday\, January 18\, 2025 \nMeet up time: 8:30am in front of the Thunder Café \nEnter for breakfast @ 8:45am \nMeet up location: Thunder Valley Casino Café \nCost: $15 to $30 \nLead: Shelli Bolsover\, Events Coordinator \n 
URL:https://sacramentomustangclub.com/events/thunder-into-breakfast-2/
ATTACH;FMTTYPE=image/jpeg:https://sacramentomustangclub.com/wp-content/uploads/2024/12/thunder-valle.jpg
END:VEVENT
BEGIN:VEVENT
DTSTART;TZID=America/Los_Angeles:20241213T180000
DTEND;TZID=America/Los_Angeles:20241213T220000
DTSTAMP:20260419T122511
CREATED:20241018T180950Z
LAST-MODIFIED:20241205T174210Z
UID:2366-1734112800-1734127200@sacramentomustangclub.com
SUMMARY:Sacramento Area Mustang Club Holiday Party
DESCRIPTION:Our annual holiday party is always spectacular. Please join us for a wonderful dinner and social. Bring canned goods and toys for extra opportunities to win prizes. \nDate: Friday\, December 13\, 2024 \nEvent location: Elks Lodge \n5631 Cypress Ave. Carmichael \nEvent Times: 6:00pm \nCost: Estimated $25pp \nLead: Mick Dadisman 916-842-9643 \n  \n 
URL:https://sacramentomustangclub.com/events/sacramento-area-mustang-club-holiday-party/
ATTACH;FMTTYPE=image/jpeg:https://sacramentomustangclub.com/wp-content/uploads/2024/10/christmas-party.jpg
END:VEVENT
BEGIN:VEVENT
DTSTART;TZID=America/Los_Angeles:20241208T080000
DTEND;TZID=America/Los_Angeles:20241208T120000
DTSTAMP:20260419T122511
CREATED:20241116T174040Z
LAST-MODIFIED:20241116T174040Z
UID:2386-1733644800-1733659200@sacramentomustangclub.com
SUMMARY:Rally4Kids Toy Drive
DESCRIPTION:All car\, truck\, and motorcycle lovers and owners are invited to participate in the 16th Annual “Rally4Kids” Toy Drive to benefit the Sacramento Shriners Hospital for Children. \nDate: Sunday\, December 8\, 2024 \nMeet up time: 8:00am \nEvent location: Shriner’s Hospital 2425 Stockton Blvd.  Sacramento \nEvent Times: 8:00am—Noon \nCost: Free \nLead: Norm Axtell 916-289-5670 \n 
URL:https://sacramentomustangclub.com/events/rally4kids-toy-drive/
ATTACH;FMTTYPE=image/png:https://sacramentomustangclub.com/wp-content/uploads/2024/11/rally4kids.png
END:VEVENT
BEGIN:VEVENT
DTSTART;TZID=America/Los_Angeles:20241123T080000
DTEND;TZID=America/Los_Angeles:20241123T170000
DTSTAMP:20260419T122511
CREATED:20241124T023627Z
LAST-MODIFIED:20241124T023658Z
UID:2397-1732348800-1732381200@sacramentomustangclub.com
SUMMARY:Capital Mustang Toy Drive
DESCRIPTION:It’s that time of the year. Come out and support Capital City Mustang at our annual toy driver \nDate: Saturday\, November 30\, 2024 \nEvent location: Sac Speed Shop 1123 N. Market Drive Sacramento\, CA \nEvent Times: 9:00am—1:00pm \nCost: A toy donation \nLead: Louis Webb— 916-412-3442 \n 
URL:https://sacramentomustangclub.com/events/capital-mustang-toy-drive/
LOCATION:sac speed Shop\, 1123 N. Market Drive\, Sacramento\, 95834
ATTACH;FMTTYPE=image/jpeg:https://sacramentomustangclub.com/wp-content/uploads/2024/11/Capital-toy-drive.jpg
END:VEVENT
BEGIN:VEVENT
DTSTART;TZID=America/Los_Angeles:20241116T150000
DTEND;TZID=America/Los_Angeles:20241116T190000
DTSTAMP:20260419T122511
CREATED:20241018T170307Z
LAST-MODIFIED:20241018T181313Z
UID:2350-1731769200-1731783600@sacramentomustangclub.com
SUMMARY:Toys for Tots Christmas Car Show
DESCRIPTION:Come out for a fun afternoon. Family Friendly Car Show (all years welcome) with 10+ Trophies\, Live Band\, 50/50 and Fun Mystery Raffle\, Vendors and Food Trucks. Come out and meet our special guest\, Santa Claus.\n  \nArrival Time: 3:00pm \nLocation: Bass Pro Shops\, 5486 Crossing Drive Rocklin \nCost: $15 per car\, $10 with a toy \nLead: Lisa Kilner 916-761-5009 \n  \nYou can submit your application and payment at:  https://norcalcarculture.com/events/christmas-car-show-2/ \n 
URL:https://sacramentomustangclub.com/events/toys-for-tots-christmas-car-show/
LOCATION:Bass Pro Shop\, 5486 Crossing Drive\, Rocklin\, California\, 95677
END:VEVENT
BEGIN:VEVENT
DTSTART;TZID=America/Los_Angeles:20241109T080000
DTEND;TZID=America/Los_Angeles:20241109T140000
DTSTAMP:20260419T122511
CREATED:20241018T170837Z
LAST-MODIFIED:20241028T184308Z
UID:2355-1731139200-1731160800@sacramentomustangclub.com
SUMMARY:Apple Hill Run
DESCRIPTION:Experience the magic of community and agriculture while enjoying a nostalgic cruise through the rolling hills of Apple Valley. In the past\, a spot was reserved for an impromptu car show with public judging. Enjoy the cider and apple Danishes while driving your very cool car. \n  \n  \nDate: November 9\, 2024 \nMeet-Up Location: Marriott Rancho Cordova (0r chatch you along the way) \nMeet-Up Time: 08:00am \nDeparture time: 8:15am \nEvent Location: High Hill Ranch \nLead Bob Seawall 916-705-1747 \n  \nLeaving Apple Hill around noon heading to Jack Russell Brewery for lunch \nLet Bob Seawell 916-705-1747 know you are interested \n 
URL:https://sacramentomustangclub.com/events/apple-hill-run/
LOCATION:apple hill\, 2262 Cable Rd.\, Camino\, California\, 95709
ATTACH;FMTTYPE=image/jpeg:https://sacramentomustangclub.com/wp-content/uploads/2024/10/Apple-Hill-2.jpg
END:VEVENT
BEGIN:VEVENT
DTSTART;TZID=America/Los_Angeles:20241019T090000
DTEND;TZID=America/Los_Angeles:20241019T150000
DTSTAMP:20260419T122511
CREATED:20241018T041151Z
LAST-MODIFIED:20241018T181632Z
UID:2345-1729328400-1729350000@sacramentomustangclub.com
SUMMARY:Howl O’ Ween Parade\, Harvest Festival & Car Show
DESCRIPTION:Parade and Harvest Festival A NEW ROUTE THIS YEAR! We will host our Harvest Festival. Car Show & Trunk or Treat\, Canine Costume Contest\, Live Performances and much much more. Prizes for the best dressed car. \nMeet-Up Location: Round Table Pizza     7873 Lichen Dr. Citrus Heights \nDeparture Time: 7:00am \nLocation: Rusch Community Park 7801 Auburn Boulevard\, Citrus Heights \nCost: $20 \nLead: Norm Axtell \nhttps://www.sunriseparks.com/2024-10-19-chcmb-annual-howl-o-ween-parade-harvest-festival-car-show.
URL:https://sacramentomustangclub.com/events/howl-o-ween-parade-harvest-festival-car-show/
ATTACH;FMTTYPE=image/jpeg:https://sacramentomustangclub.com/wp-content/uploads/2024/10/harvest-festival.jpg
END:VEVENT
BEGIN:VEVENT
DTSTART;TZID=America/Los_Angeles:20240917T080000
DTEND;TZID=America/Los_Angeles:20240917T120000
DTSTAMP:20260419T122511
CREATED:20240918T032913Z
LAST-MODIFIED:20240918T032913Z
UID:2309-1726560000-1726574400@sacramentomustangclub.com
SUMMARY:60th Anniversary of the Mustang—September 15\, 2024
DESCRIPTION:We are excited to invite you to a special celebration honoring the 60th anniversary of the iconic Ford Mustang! Join us for the Mustang 60th Anniversary Cars and Coffee event\, hosted by Ford Lincoln Fairfield and Friends of Ford\, on September 15th. This event is not just for Mustang lovers—all makes are welcome\, pre-1973 \nDate: Saturday September 15\, 2024 \nEvent location: Ford Lincoln Fairfield \n3050 Auto Mall Ct. Fairfield\, CA \nEvent Times: 8:00am—12:00pm \nCost: I think it is free \nLead: TBD \nMustang 60th Anniversary | Cars and Coffee | Ford Fairfield | Facebook \n 
URL:https://sacramentomustangclub.com/events/60th-anniversary-of-the-mustang-september-15-2024/
LOCATION:ford fairfield\, 3050 Auto Mall Ct.\, Fairfield\, ca
ATTACH;FMTTYPE=image/png:https://sacramentomustangclub.com/wp-content/uploads/2024/09/60th-Anniversary.png
END:VEVENT
BEGIN:VEVENT
DTSTART;TZID=America/Los_Angeles:20240728T144500
DTEND;TZID=America/Los_Angeles:20240728T210000
DTSTAMP:20260419T122511
CREATED:20240605T003916Z
LAST-MODIFIED:20240605T003916Z
UID:2136-1722177900-1722200400@sacramentomustangclub.com
SUMMARY:California State Fair
DESCRIPTION:The last day of the California State Fair is Mustang Day! 18 cars will show the state what a real car looks like. \nMeet-up Time: 2:45pm \nMeet-up Location: Century Theater Arden – 1590 Ethan Way\, Sacramento CA \nDeparture Time: 3:00pm \nEvent Times: 3:00pm—9:00pm \nEvent Location: Cal Expo 1600 Exposition Blvd. Sacramento\, CA \nCost: Free \n 
URL:https://sacramentomustangclub.com/events/california-state-fair/
ATTACH;FMTTYPE=image/jpeg:https://sacramentomustangclub.com/wp-content/uploads/2024/06/California-State-Fair.jpg
END:VEVENT
BEGIN:VEVENT
DTSTART;TZID=America/Los_Angeles:20240704T093000
DTEND;TZID=America/Los_Angeles:20240704T230000
DTSTAMP:20260419T122511
CREATED:20240602T051442Z
LAST-MODIFIED:20240605T004706Z
UID:2123-1720085400-1720134000@sacramentomustangclub.com
SUMMARY:Carmichael Elks Club Dignity Parade
DESCRIPTION:The Sierra Mustang Club is calling for all convertibles to participate in this wonderful patriotic parade. Dress your ride in out nation’s colors. \nDate: Saturday\, July 4\, 2024 \nArrival Time: 9:30am \nEvent Location: Milargo Center 6241 Fair Oaks Blvd. \nParade Start: 10:30am \nCost: Free \nPlease Contact Sondra Fuson 916-202-9033 if you would like to participate \n 
URL:https://sacramentomustangclub.com/events/carmichael-elks-club-dignity-parade/
LOCATION:Milargo Center\, 6241 Fair Oaks Blvd.\, Carmichael\, United States
ATTACH;FMTTYPE=image/jpeg:https://sacramentomustangclub.com/wp-content/uploads/2024/06/4th-of-july.jpg
END:VEVENT
BEGIN:VEVENT
DTSTART;TZID=America/Los_Angeles:20240615T080000
DTEND;TZID=America/Los_Angeles:20240615T202000
DTSTAMP:20260419T122511
CREATED:20240602T022624Z
LAST-MODIFIED:20240602T023539Z
UID:2116-1718438400-1718482800@sacramentomustangclub.com
SUMMARY:Bayside Church (almost) Father’s Day Car Show
DESCRIPTION:Get your engines roarin’ and join us for the 2024 Bayside Family Car Show\, Father’s Day weekend\, Saturday\, June 15!   Enjoy classic cars\, motorcycles\, food trucks\, Hot Wheel races\, raffle prizes and more. This annual event is free\, a lot of fun\, and one for the whole family. \nMeet up time: 8:00am\nMeet up location: Floor and Decor 6681 Stanford Ranch Rd. Rocklin\, CA\nDeparture time: 8:20am \n 
URL:https://sacramentomustangclub.com/events/bayside-church-almost-fathers-day-car-show/
CATEGORIES:Car Shows,Non Club Sactioned
ATTACH;FMTTYPE=image/jpeg:https://sacramentomustangclub.com/wp-content/uploads/2024/06/bayside-church.jpg
END:VEVENT
BEGIN:VEVENT
DTSTART;TZID=America/Los_Angeles:20230701T080000
DTEND;TZID=America/Los_Angeles:20230701T120000
DTSTAMP:20260419T122511
CREATED:20230628T195252Z
LAST-MODIFIED:20230628T200232Z
UID:1846-1688198400-1688212800@sacramentomustangclub.com
SUMMARY:Freedom Isn’t Free 4th Annual Car Show
DESCRIPTION:SAMC Members\, \nExperience the “Freedom Isn’t Free” 4th Annual Car Show on Saturday\, July 1st at El Tapatio in Citrus Heights. Get up close to stunning supercars\, vintage classics\, and more. There will be oldie’s music\, mouthwatering food\, vendor booths\, and awards making it an unforgettable day. It is a $25 entry fee (only if you are showing). Don’t miss this high-octane celebration! \nContact info regarding the event: Mary Shaver-Gromer (916)335-8566 \nNote: this is not a SAMC-owned event.
URL:https://sacramentomustangclub.com/events/freedom-isnt-free-4th-annual-car-show/
CATEGORIES:Car Events
ATTACH;FMTTYPE=image/jpeg:https://sacramentomustangclub.com/wp-content/uploads/2023/06/2023-Freedom-Isnt-Free-Car-Show-NEW-HOURS.jpg
END:VEVENT
BEGIN:VEVENT
DTSTART;TZID=America/Los_Angeles:20230701T070000
DTEND;TZID=America/Los_Angeles:20230701T093000
DTSTAMP:20260419T122511
CREATED:20230628T200212Z
LAST-MODIFIED:20230628T200212Z
UID:1849-1688194800-1688203800@sacramentomustangclub.com
SUMMARY:Cars & Coffee El Dorado Hills
DESCRIPTION:SAMC Members\, \nGet ready for an automotive extravaganza that will leave you breathless! Join us on Saturday\, July 1st at Cars & Coffee El Dorado Hills for an unforgettable car enthusiast experience. \nPrepare to be dazzled as we bring together an impressive array of jaw-dropping supercars\, meticulously restored vintage classics\, and cutting-edge concept vehicles. From the sleek lines to the thunderous engines\, these automotive marvels will ignite your passion for all things on wheels. \nCars & Coffee El Dorado Hills is scheduled the 1st & 2nd Saturday of every month (Rain or Shine). \nNote: this is not a SAMC-owned event.
URL:https://sacramentomustangclub.com/events/cars-coffee-el-dorado-hills/
LOCATION:El Dorado Hills Town Center\, 2101 Vine Street\, El Dorado Hills\, CA\, 95762
CATEGORIES:Car Shows
ATTACH;FMTTYPE=image/jpeg:https://sacramentomustangclub.com/wp-content/uploads/2023/06/Cars-and-Coffee-Folsom.jpg
END:VEVENT
BEGIN:VEVENT
DTSTART;TZID=America/Los_Angeles:20230429T074500
DTEND;TZID=America/Los_Angeles:20230429T140000
DTSTAMP:20260419T122511
CREATED:20230216T155706Z
LAST-MODIFIED:20230216T164414Z
UID:1684-1682754300-1682776800@sacramentomustangclub.com
SUMMARY:Sacramento AUTORAMA | Drive-In Show & Shine
DESCRIPTION:SAMC Members\, \nAre you ready to rev up your engines and kick off Spring in style? Sacramento AUTORAMA Drive-In Show & Shine event is just around the corner\, and it’s going to be bigger and better than last year! \nMark your calendars for Saturday\, April 29th at 7:45 AM PST! We will be meeting at Century Movie Theater 1590 Ethan Way\, Sacramento CA 95825 and departing at 8:00 AM PST. \nThis is your chance to show off your prized possession\, share your expertise\, and connect with fellow petrolheads who share the same passion as you do. We’ll also be discussing important topics like road trips\, fundraising ideas\, and new initiatives to grow our club. \nThis years Outdoor Show & Shine event will be $50 and registration is required. SAMC also has 12 Mustangs registered that will be in-doors in building A. Please drop by and visit our SAMC booth! \nWe look forward to seeing you at the event. \nAutorama Drive In
URL:https://sacramentomustangclub.com/events/sacramento-autorama-drive-in-show-shine/
CATEGORIES:Car Events,Car Shows
ATTACH;FMTTYPE=image/png:https://sacramentomustangclub.com/wp-content/uploads/2023/02/Sacramento-Autorama.png
ORGANIZER;CN="Vic Bustabad":MAILTO:vjbusta@sbcglobal.net
END:VEVENT
BEGIN:VEVENT
DTSTART;TZID=America/Los_Angeles:20230422T090000
DTEND;TZID=America/Los_Angeles:20230422T140000
DTSTAMP:20260419T122511
CREATED:20230419T223915Z
LAST-MODIFIED:20230419T223916Z
UID:1735-1682154000-1682172000@sacramentomustangclub.com
SUMMARY:9th Annual Casa Roble Car Show
DESCRIPTION:SAMC Members\, \nPrepare to rev your engines and join us for an unforgettable day at the 9th Annual Casa Roble Car Show! Taking place on Saturday\, April 22nd\, from 9 AM to 2 PM at the Casa Roble High School\, this is an event that car enthusiasts will want to attend. \nThey’re bringing together some of the most beautiful and exotic vehicles across the region\, showcasing everything from classic muscle cars to modern supercars. You’ll have the chance to see these incredible machines up close\, chat with the proud owners\, and snap some epic photos for your social media. \nBut that’s not all – there will be a variety of tasty food trucks\, local vendors\, music\, and raffles with amazing prizes that will make your heart race. \nIf you plan to show your vehicle\, the cost is $20. If you don’t intend to show your vehicle\, admission is FREE! So whether you’re a seasoned car enthusiast or just looking for a fun day out with the family\, join us and experience the excitement and adrenaline of our car show event. We can’t wait to see you there! \n  \nMeet-Up Location:  \nLeatherby’s Family Creamery \n7910 Antelope Rd\, Citrus Heights\, CA 95610 \n \nMeet-Up Time:  \n6:30 AM \nDepart Time: \n6:45 AM
URL:https://sacramentomustangclub.com/events/9th-annual-casa-roble-car-show/
CATEGORIES:Car Events,Car Shows
END:VEVENT
BEGIN:VEVENT
DTSTART;TZID=America/Los_Angeles:20230419T180000
DTEND;TZID=America/Los_Angeles:20230419T203000
DTSTAMP:20260419T122511
CREATED:20230216T165917Z
LAST-MODIFIED:20230302T011535Z
UID:1698-1681927200-1681936200@sacramentomustangclub.com
SUMMARY:SAMC | April 2023 General Meeting
DESCRIPTION:Club Monthly Board Meetings are at the Citrus Heights Round Table on the 2nd Wednesday of each month throughout the year. \nMembers are advised that this is now official. \nOur April 2023 general membership meeting will be Wed\, 4/19 at Round Table Pizza on Lichen and Antelope Rd. Time: 6:00 PM for dinner and 7:00 PM – 8:30 PM for the meeting.
URL:https://sacramentomustangclub.com/events/samc-april-2023-general-meeting/
ORGANIZER;CN="Greg Durante":MAILTO:gregdurantejr@yahoo.com
END:VEVENT
BEGIN:VEVENT
DTSTART;TZID=America/Los_Angeles:20230412T180000
DTEND;TZID=America/Los_Angeles:20230412T203000
DTSTAMP:20260419T122511
CREATED:20230216T165748Z
LAST-MODIFIED:20230302T011453Z
UID:1696-1681322400-1681331400@sacramentomustangclub.com
SUMMARY:SAMC | April 2023 Board Meeting
DESCRIPTION:Club Monthly Board Meetings are at the Citrus Heights Round Table on the 2nd Wednesday of each month throughout the year. \nMembers are advised that this is now official. \nOur April board meeting will be Wed\, 4/12 and our general membership meeting will be Wed\, 4/19 at Round Table Pizza on Lichen and Antelope Rd. Time: 6:00 PM for dinner and 7:00 PM – 8:30 PM for the meeting.
URL:https://sacramentomustangclub.com/events/samc-april-2023-board-meeting/
ORGANIZER;CN="Greg Durante":MAILTO:gregdurantejr@yahoo.com
END:VEVENT
BEGIN:VEVENT
DTSTART;TZID=America/Los_Angeles:20230402T104500
DTEND;TZID=America/Los_Angeles:20230402T120000
DTSTAMP:20260419T122511
CREATED:20230321T165327Z
LAST-MODIFIED:20230321T165327Z
UID:1726-1680432300-1680436800@sacramentomustangclub.com
SUMMARY:SAMC Lunch | Bruchi’s Cheesesteaks & Salads
DESCRIPTION:SAMC Members\, \nWe are excited to announce that our upcoming car club lunch will take place on Sunday\, April 2nd at 10:45 AM at Bruchi’s. This is a great opportunity for us to gather and discuss our shared passion for cars while enjoying a delicious meal together. \nBruchi’s is located at 1850 Douglas Blvd. Suite 914 Roseville\, CA 95661 and offers a fantastic menu with options to suit all tastes. We have reserved space for our group to ensure a comfortable and exclusive experience. \n \nWe hope to see you all there for what promises to be an enjoyable afternoon.
URL:https://sacramentomustangclub.com/events/samc-lunch-bruchis-cheesesteaks-salads/
CATEGORIES:Breakfast/Lunch Social,Club Meetings
ATTACH;FMTTYPE=image/jpeg:https://sacramentomustangclub.com/wp-content/uploads/2023/03/Bruchis.jpg
END:VEVENT
BEGIN:VEVENT
DTSTART;TZID=America/Los_Angeles:20230315T180000
DTEND;TZID=America/Los_Angeles:20230315T203000
DTSTAMP:20260419T122511
CREATED:20230216T165427Z
LAST-MODIFIED:20230216T165427Z
UID:1694-1678903200-1678912200@sacramentomustangclub.com
SUMMARY:SAMC | March 2023 General Meeting
DESCRIPTION:Club Monthly Board Meetings are at the Citrus Heights Round Table on the 2nd Wednesday of each month throughout the year. \nMembers are advised that this is now official. \nOur March 2023 general membership meeting will be Wed\, 3/15 at Round Table Pizza on Lichen and Antelope Rd. Time: 6:00 PM for dinner and 7:00 PM – 8:30 PM for the meeting.
URL:https://sacramentomustangclub.com/events/samc-march-2023-general-meeting/
ORGANIZER;CN="Greg Durante":MAILTO:gregdurantejr@yahoo.com
END:VEVENT
BEGIN:VEVENT
DTSTART;TZID=America/Los_Angeles:20230308T180000
DTEND;TZID=America/Los_Angeles:20230308T200000
DTSTAMP:20260419T122511
CREATED:20230216T165210Z
LAST-MODIFIED:20230216T165210Z
UID:1692-1678298400-1678305600@sacramentomustangclub.com
SUMMARY:SAMC | March 2023 Board Meeting
DESCRIPTION:Club Monthly Board Meetings are at the Citrus Heights Round Table on the 2nd Wednesday of each month throughout the year. \nMembers are advised that this is now official. \nOur March board meeting will be Wed\, 3/8 and our general membership meeting will be Wed\, 3/15 at Round Table Pizza on Lichen and Antelope Rd. Time: 6:00 PM for dinner and 7:00 PM – 8:30 PM for the meeting.
URL:https://sacramentomustangclub.com/events/samc-march-2023-board-meeting/
CATEGORIES:Club Meetings
ORGANIZER;CN="Greg Durante":MAILTO:gregdurantejr@yahoo.com
END:VEVENT
BEGIN:VEVENT
DTSTART;TZID=America/Los_Angeles:20230226T071500
DTEND;TZID=America/Los_Angeles:20230226T140000
DTSTAMP:20260419T122511
CREATED:20230216T183954Z
LAST-MODIFIED:20230216T190505Z
UID:1700-1677395700-1677420000@sacramentomustangclub.com
SUMMARY:SAMC | Almond Festival | Road Rally
DESCRIPTION:SAMC Members\, \nWe are excited to announce the Almond Festival Car Show & Drive\, taking place on Sunday\, February 26th from 7:15 AM to 2:00 PM PST. We will be meeting up at IKEA (700 Ikea Ct\, West Sacramento\, CA 95605) at 7:15 AM and departing at 7:30 AM PST. \n \nAgenda: \n\nBreakfast (4H Kids) @ Esparto High School @ 26675 Plainfield St\, Esparto\, CA 95627\nTaber Ranch Winery Stop @ 16628 CR 81\, Capay\, CA 95607\nCanyon Road Rally\nGranzella’s Restaurant @ 451 6th St\, Williams\, CA 95987\n\nWe look forward to seeing you all!
URL:https://sacramentomustangclub.com/events/samc-almond-festival-road-rally/
CATEGORIES:Breakfast/Lunch Social,Car Events,Car Shows,Club Drives
ORGANIZER;CN="Mick Dadisman":MAILTO:dadisman3@comcast.net
END:VEVENT
BEGIN:VEVENT
DTSTART;TZID=America/Los_Angeles:20230219T070000
DTEND;TZID=America/Los_Angeles:20230219T110000
DTSTAMP:20260419T122511
CREATED:20230204T201854Z
LAST-MODIFIED:20230206T163306Z
UID:1662-1676790000-1676804400@sacramentomustangclub.com
SUMMARY:SAMC | Dreams and Drivers Cars n Coffee
DESCRIPTION:Attention all SAMC Members! \nGet ready for the next “Dreams and Drivers Cars n Coffee” meetup located in Carmichael. Join us for a morning of coffee\, camaraderie\, and some of the coolest cars around. Whether you have a classic\, modern\, electric\, or just love cars in general\, you are welcome to attend. \nBring your ride and a friend\, and let’s have some fun! Hope to see you there. \nMeetup | 7:00 AM \nEvent | 9:00 AM to 11:00 AM
URL:https://sacramentomustangclub.com/events/samc-dreams-and-drivers-cars-n-coffee/
LOCATION:Milagro Centre\, 6241 Fair Oaks Blvd\, Carmichael\, CA\, 95608\, United States
CATEGORIES:Car Events
ATTACH;FMTTYPE=image/jpeg:https://sacramentomustangclub.com/wp-content/uploads/2023/02/Dreams-Drivers-1.jpg
ORGANIZER;CN="Greg Durante":MAILTO:gregdurantejr@yahoo.com
END:VEVENT
BEGIN:VEVENT
DTSTART;TZID=America/Los_Angeles:20230211T120000
DTEND;TZID=America/Los_Angeles:20230211T140000
DTSTAMP:20260419T122511
CREATED:20230204T194040Z
LAST-MODIFIED:20230204T212658Z
UID:1647-1676116800-1676124000@sacramentomustangclub.com
SUMMARY:SAMC | Lunch Outing @ Tony Baloney’s
DESCRIPTION:SAMC Members\, \nGather your engines and rev up for our next exciting lunch outing! We are thrilled to announce that we will be gathering on February 11th\, 12:00 PM\, at Tony Baloney’s to indulge in a scrumptious meal and discuss our passions for all things automobile. \nSo\, let’s put the pedal to the metal and make this a outing to remember!
URL:https://sacramentomustangclub.com/events/samc-lunch-meetup-tony-baloneys/
LOCATION:Tony Baloney’s\, 5059 College Oak Drive\, Sacramento\, CA\, 95841\, United States
CATEGORIES:Breakfast/Lunch Social
ATTACH;FMTTYPE=image/jpeg:https://sacramentomustangclub.com/wp-content/uploads/2023/02/Tony-Baloneys-Sacramento.jpg
END:VEVENT
END:VCALENDAR