BEGIN:VCALENDAR
VERSION:2.0
PRODID:-//Sacramento Area Mustang Club - ECPv6.15.12.1//NONSGML v1.0//EN
CALSCALE:GREGORIAN
METHOD:PUBLISH
X-WR-CALNAME:Sacramento Area Mustang Club
X-ORIGINAL-URL:https://sacramentomustangclub.com
X-WR-CALDESC:Events for Sacramento Area Mustang Club
REFRESH-INTERVAL;VALUE=DURATION:PT1H
X-Robots-Tag:noindex
X-PUBLISHED-TTL:PT1H
BEGIN:VTIMEZONE
TZID:America/Los_Angeles
BEGIN:DAYLIGHT
TZOFFSETFROM:-0800
TZOFFSETTO:-0700
TZNAME:PDT
DTSTART:20240310T100000
END:DAYLIGHT
BEGIN:STANDARD
TZOFFSETFROM:-0700
TZOFFSETTO:-0800
TZNAME:PST
DTSTART:20241103T090000
END:STANDARD
BEGIN:DAYLIGHT
TZOFFSETFROM:-0800
TZOFFSETTO:-0700
TZNAME:PDT
DTSTART:20250309T100000
END:DAYLIGHT
BEGIN:STANDARD
TZOFFSETFROM:-0700
TZOFFSETTO:-0800
TZNAME:PST
DTSTART:20251102T090000
END:STANDARD
BEGIN:DAYLIGHT
TZOFFSETFROM:-0800
TZOFFSETTO:-0700
TZNAME:PDT
DTSTART:20260308T100000
END:DAYLIGHT
BEGIN:STANDARD
TZOFFSETFROM:-0700
TZOFFSETTO:-0800
TZNAME:PST
DTSTART:20261101T090000
END:STANDARD
END:VTIMEZONE
BEGIN:VEVENT
DTSTART;TZID=America/Los_Angeles:20251130T140000
DTEND;TZID=America/Los_Angeles:20251130T193000
DTSTAMP:20260419T222031
CREATED:20241018T172142Z
LAST-MODIFIED:20251028T040823Z
UID:2359-1764511200-1764531000@sacramentomustangclub.com
SUMMARY:California Automobile Museum Christmas Tree Decorating and Pot Luck
DESCRIPTION:Come enjoy the comradery of car clubs while decorating the SAMC Christmas tree at the California Automobile Museum. Please bring a side dish or a salad that feeds 8 – 10 to share \nDate: Sunday November 30\, 2025 \nMeet up time: 2:00pm \nEvent location: California Automobile Museum \nEvent Times: 2:00pm—7:30pm \nCost: Free \nLead: Doug Kilner 916-200-6691 \n 
URL:https://sacramentomustangclub.com/events/california-automobile-museum-christmas-tree-decorating-and-pot-luck/
LOCATION:CA
CATEGORIES:Car Events
ATTACH;FMTTYPE=image/jpeg:https://sacramentomustangclub.com/wp-content/uploads/2024/10/CAMXmas.jpg
END:VEVENT
END:VCALENDAR