BEGIN:VCALENDAR
VERSION:2.0
PRODID:-//Sacramento Area Mustang Club - ECPv6.15.12.1//NONSGML v1.0//EN
CALSCALE:GREGORIAN
METHOD:PUBLISH
X-ORIGINAL-URL:https://sacramentomustangclub.com
X-WR-CALDESC:Events for Sacramento Area Mustang Club
REFRESH-INTERVAL;VALUE=DURATION:PT1H
X-Robots-Tag:noindex
X-PUBLISHED-TTL:PT1H
BEGIN:VTIMEZONE
TZID:America/Los_Angeles
BEGIN:DAYLIGHT
TZOFFSETFROM:-0800
TZOFFSETTO:-0700
TZNAME:PDT
DTSTART:20240310T100000
END:DAYLIGHT
BEGIN:STANDARD
TZOFFSETFROM:-0700
TZOFFSETTO:-0800
TZNAME:PST
DTSTART:20241103T090000
END:STANDARD
BEGIN:DAYLIGHT
TZOFFSETFROM:-0800
TZOFFSETTO:-0700
TZNAME:PDT
DTSTART:20250309T100000
END:DAYLIGHT
BEGIN:STANDARD
TZOFFSETFROM:-0700
TZOFFSETTO:-0800
TZNAME:PST
DTSTART:20251102T090000
END:STANDARD
BEGIN:DAYLIGHT
TZOFFSETFROM:-0800
TZOFFSETTO:-0700
TZNAME:PDT
DTSTART:20260308T100000
END:DAYLIGHT
BEGIN:STANDARD
TZOFFSETFROM:-0700
TZOFFSETTO:-0800
TZNAME:PST
DTSTART:20261101T090000
END:STANDARD
END:VTIMEZONE
BEGIN:VEVENT
DTSTART;TZID=America/Los_Angeles:20250712T080000
DTEND;TZID=America/Los_Angeles:20250712T170000
DTSTAMP:20260419T203523
CREATED:20250511T145132Z
LAST-MODIFIED:20250511T145132Z
UID:2646-1752307200-1752339600@sacramentomustangclub.com
SUMMARY:Blackhawk Auto Museum Cruise
DESCRIPTION:museum offers enriching experiences through The Don William’s Automobile Gallery\, The Spirit of the Old West\, Art of Africa\, Pat’s Compacts\, Into China\, and World of Nature. \nDate: July 12\, 2025 \nMeet up time: TBD \nMeet up location: TBD \nDeparture time: TBD \nCost: $20 per person \n 
URL:https://sacramentomustangclub.com/events/blackhawk-auto-museum-cruise/
CATEGORIES:Club Drives
ATTACH;FMTTYPE=image/png:https://sacramentomustangclub.com/wp-content/uploads/2025/05/blackhawk.png
END:VEVENT
END:VCALENDAR