BEGIN:VCALENDAR
VERSION:2.0
PRODID:-//Sacramento Area Mustang Club - ECPv6.15.12.1//NONSGML v1.0//EN
CALSCALE:GREGORIAN
METHOD:PUBLISH
X-ORIGINAL-URL:https://sacramentomustangclub.com
X-WR-CALDESC:Events for Sacramento Area Mustang Club
REFRESH-INTERVAL;VALUE=DURATION:PT1H
X-Robots-Tag:noindex
X-PUBLISHED-TTL:PT1H
BEGIN:VTIMEZONE
TZID:America/Los_Angeles
BEGIN:DAYLIGHT
TZOFFSETFROM:-0800
TZOFFSETTO:-0700
TZNAME:PDT
DTSTART:20250309T100000
END:DAYLIGHT
BEGIN:STANDARD
TZOFFSETFROM:-0700
TZOFFSETTO:-0800
TZNAME:PST
DTSTART:20251102T090000
END:STANDARD
BEGIN:DAYLIGHT
TZOFFSETFROM:-0800
TZOFFSETTO:-0700
TZNAME:PDT
DTSTART:20260308T100000
END:DAYLIGHT
BEGIN:STANDARD
TZOFFSETFROM:-0700
TZOFFSETTO:-0800
TZNAME:PST
DTSTART:20261101T090000
END:STANDARD
BEGIN:DAYLIGHT
TZOFFSETFROM:-0800
TZOFFSETTO:-0700
TZNAME:PDT
DTSTART:20270314T100000
END:DAYLIGHT
BEGIN:STANDARD
TZOFFSETFROM:-0700
TZOFFSETTO:-0800
TZNAME:PST
DTSTART:20271107T090000
END:STANDARD
END:VTIMEZONE
BEGIN:VEVENT
DTSTART;TZID=America/Los_Angeles:20260614T103000
DTEND;TZID=America/Los_Angeles:20260614T130000
DTSTAMP:20260419T103643
CREATED:20240527T191141Z
LAST-MODIFIED:20260310T015502Z
UID:2101-1781433000-1781442000@sacramentomustangclub.com
SUMMARY:Yard House Sunday Social
DESCRIPTION:Yard House is the modern American gathering place where beer and food lovers unite. Known for great food\, classic rock\, an energetic vibe and endless fleet of tap handles featuring the best craft and local beers. Kemyatta always puts an amazing spin on this event! \nDate: Sunday\, June 14\, 2026 \nArrival Time: 10:30 \nEvent Location: 1166 Roseville Parkway Bldg E Roseville\, CA \nCost: Cost of meal and beverages \nLead: Kemyatta Harris 916-217-9375 \n 
URL:https://sacramentomustangclub.com/events/yard-house-sunday-social-june-9-2024/
LOCATION:Yard House\, 1166 Roseville Parkway\, Roseville\, CA\, United States
CATEGORIES:Breakfast/Lunch Social,Club Sponsored Events
ATTACH;FMTTYPE=image/jpeg:https://sacramentomustangclub.com/wp-content/uploads/2024/05/Yard-House-1-e1716837346377.jpg
END:VEVENT
END:VCALENDAR