BEGIN:VCALENDAR
VERSION:2.0
PRODID:-//Sacramento Area Mustang Club - ECPv6.15.12.1//NONSGML v1.0//EN
CALSCALE:GREGORIAN
METHOD:PUBLISH
X-WR-CALNAME:Sacramento Area Mustang Club
X-ORIGINAL-URL:https://sacramentomustangclub.com
X-WR-CALDESC:Events for Sacramento Area Mustang Club
REFRESH-INTERVAL;VALUE=DURATION:PT1H
X-Robots-Tag:noindex
X-PUBLISHED-TTL:PT1H
BEGIN:VTIMEZONE
TZID:America/Los_Angeles
BEGIN:DAYLIGHT
TZOFFSETFROM:-0800
TZOFFSETTO:-0700
TZNAME:PDT
DTSTART:20220313T100000
END:DAYLIGHT
BEGIN:STANDARD
TZOFFSETFROM:-0700
TZOFFSETTO:-0800
TZNAME:PST
DTSTART:20221106T090000
END:STANDARD
BEGIN:DAYLIGHT
TZOFFSETFROM:-0800
TZOFFSETTO:-0700
TZNAME:PDT
DTSTART:20230312T100000
END:DAYLIGHT
BEGIN:STANDARD
TZOFFSETFROM:-0700
TZOFFSETTO:-0800
TZNAME:PST
DTSTART:20231105T090000
END:STANDARD
BEGIN:DAYLIGHT
TZOFFSETFROM:-0800
TZOFFSETTO:-0700
TZNAME:PDT
DTSTART:20240310T100000
END:DAYLIGHT
BEGIN:STANDARD
TZOFFSETFROM:-0700
TZOFFSETTO:-0800
TZNAME:PST
DTSTART:20241103T090000
END:STANDARD
BEGIN:DAYLIGHT
TZOFFSETFROM:-0800
TZOFFSETTO:-0700
TZNAME:PDT
DTSTART:20250309T100000
END:DAYLIGHT
BEGIN:STANDARD
TZOFFSETFROM:-0700
TZOFFSETTO:-0800
TZNAME:PST
DTSTART:20251102T090000
END:STANDARD
BEGIN:DAYLIGHT
TZOFFSETFROM:-0800
TZOFFSETTO:-0700
TZNAME:PDT
DTSTART:20260308T100000
END:DAYLIGHT
BEGIN:STANDARD
TZOFFSETFROM:-0700
TZOFFSETTO:-0800
TZNAME:PST
DTSTART:20261101T090000
END:STANDARD
BEGIN:DAYLIGHT
TZOFFSETFROM:-0800
TZOFFSETTO:-0700
TZNAME:PDT
DTSTART:20270314T100000
END:DAYLIGHT
BEGIN:STANDARD
TZOFFSETFROM:-0700
TZOFFSETTO:-0800
TZNAME:PST
DTSTART:20271107T090000
END:STANDARD
END:VTIMEZONE
BEGIN:VEVENT
DTSTART;TZID=America/Los_Angeles:20260125T090000
DTEND;TZID=America/Los_Angeles:20260125T110000
DTSTAMP:20260419T123137
CREATED:20260107T040658Z
LAST-MODIFIED:20260107T040658Z
UID:3602-1769331600-1769338800@sacramentomustangclub.com
SUMMARY:Casino Breakfast
DESCRIPTION:Mark you calendars.\n\n\nSAMC is kicking off the new year events with our annual Casino breakfast – We are switching it up this year and moving over to the Hard Rock Casino in Wheatland Ca.\n\n\nSee meet info below.\n\n\nDate: Sunday 1-25-26\nMeet up time: 9:00am / enter for breakfast 9:15am\nLocation: Hard Rock Casino\, 3317 Forty Mile Toad Wheatland\, California.\n\n\n* Meet at restaurant café dining area.\n\n\nDoug Kilner SAMC event coordinator
URL:https://sacramentomustangclub.com/events/casino-breakfast/
LOCATION:Hard Rock Casino Cafe\, 3317 Forty Mile Road\, Wheatland\, CA\, United States
CATEGORIES:Breakfast/Lunch Social,Club Sponsored Events
ATTACH;FMTTYPE=image/jpeg:https://sacramentomustangclub.com/wp-content/uploads/2026/01/Hard-Rock-Cafe.jpg
END:VEVENT
BEGIN:VEVENT
DTSTART;TZID=America/Los_Angeles:20230402T104500
DTEND;TZID=America/Los_Angeles:20230402T120000
DTSTAMP:20260419T123137
CREATED:20230321T165327Z
LAST-MODIFIED:20230321T165327Z
UID:1726-1680432300-1680436800@sacramentomustangclub.com
SUMMARY:SAMC Lunch | Bruchi’s Cheesesteaks & Salads
DESCRIPTION:SAMC Members\, \nWe are excited to announce that our upcoming car club lunch will take place on Sunday\, April 2nd at 10:45 AM at Bruchi’s. This is a great opportunity for us to gather and discuss our shared passion for cars while enjoying a delicious meal together. \nBruchi’s is located at 1850 Douglas Blvd. Suite 914 Roseville\, CA 95661 and offers a fantastic menu with options to suit all tastes. We have reserved space for our group to ensure a comfortable and exclusive experience. \n \nWe hope to see you all there for what promises to be an enjoyable afternoon.
URL:https://sacramentomustangclub.com/events/samc-lunch-bruchis-cheesesteaks-salads/
LOCATION:CA
CATEGORIES:Breakfast/Lunch Social,Club Meetings
ATTACH;FMTTYPE=image/jpeg:https://sacramentomustangclub.com/wp-content/uploads/2023/03/Bruchis.jpg
END:VEVENT
BEGIN:VEVENT
DTSTART;TZID=America/Los_Angeles:20230226T071500
DTEND;TZID=America/Los_Angeles:20230226T140000
DTSTAMP:20260419T123137
CREATED:20230216T183954Z
LAST-MODIFIED:20230216T190505Z
UID:1700-1677395700-1677420000@sacramentomustangclub.com
SUMMARY:SAMC | Almond Festival | Road Rally
DESCRIPTION:SAMC Members\, \nWe are excited to announce the Almond Festival Car Show & Drive\, taking place on Sunday\, February 26th from 7:15 AM to 2:00 PM PST. We will be meeting up at IKEA (700 Ikea Ct\, West Sacramento\, CA 95605) at 7:15 AM and departing at 7:30 AM PST. \n \nAgenda: \n\nBreakfast (4H Kids) @ Esparto High School @ 26675 Plainfield St\, Esparto\, CA 95627\nTaber Ranch Winery Stop @ 16628 CR 81\, Capay\, CA 95607\nCanyon Road Rally\nGranzella’s Restaurant @ 451 6th St\, Williams\, CA 95987\n\nWe look forward to seeing you all!
URL:https://sacramentomustangclub.com/events/samc-almond-festival-road-rally/
LOCATION:CA
CATEGORIES:Breakfast/Lunch Social,Car Events,Car Shows,Club Drives
ORGANIZER;CN="Mick Dadisman":MAILTO:dadisman3@comcast.net
END:VEVENT
BEGIN:VEVENT
DTSTART;TZID=America/Los_Angeles:20230211T120000
DTEND;TZID=America/Los_Angeles:20230211T140000
DTSTAMP:20260419T123137
CREATED:20230204T194040Z
LAST-MODIFIED:20230204T212658Z
UID:1647-1676116800-1676124000@sacramentomustangclub.com
SUMMARY:SAMC | Lunch Outing @ Tony Baloney’s
DESCRIPTION:SAMC Members\, \nGather your engines and rev up for our next exciting lunch outing! We are thrilled to announce that we will be gathering on February 11th\, 12:00 PM\, at Tony Baloney’s to indulge in a scrumptious meal and discuss our passions for all things automobile. \nSo\, let’s put the pedal to the metal and make this a outing to remember!
URL:https://sacramentomustangclub.com/events/samc-lunch-meetup-tony-baloneys/
LOCATION:Tony Baloney’s\, 5059 College Oak Drive\, Sacramento\, CA\, 95841\, United States
CATEGORIES:Breakfast/Lunch Social
ATTACH;FMTTYPE=image/jpeg:https://sacramentomustangclub.com/wp-content/uploads/2023/02/Tony-Baloneys-Sacramento.jpg
END:VEVENT
END:VCALENDAR